BEGIN:VCALENDAR
VERSION:2.0
PRODID:-//ChamberMaster//Event Calendar 2.0//EN
METHOD:PUBLISH
X-PUBLISHED-TTL:P3D
REFRESH-INTERVAL:P3D
CALSCALE:GREGORIAN
BEGIN:VEVENT
DTSTART:20221217T130000Z
DTEND:20221217T170000Z
X-MICROSOFT-CDO-ALLDAYEVENT:FALSE
SUMMARY:Breakfast with Santa at Airlie
DESCRIPTION:It's the most wonderful time of the year!\n\nCome to Airlie for a delicious breakfast made by our Executive Chef and his team. When you've finished dining\, take the family to meet Santa Claus! The kids can tell him gifts they desire this Holiday Season\, and the families get to take their own photographs as a keepsake to treasure.\nThis experience is broken up into timeslots and we ask that you please arrive at the time you have purchased a ticket for to ensure seating for all guests.\nWe can't wait to see you there!\n\nMenu: MAIN BUFFET\n\nBreads & Pastry with Butter and Preserves\n\nSliced Fresh Fruit Display\n\nScrambled Eggs\n\nFrench Toast Sticks with Maple Syrup\n\nCountry Breakfast Potatoes with Pepper and Onions\n\nApplewood Smoked Bacon\n\nLocal Smoke Pork Sausage Links\n\nDessert Station\n\nHoliday Cookie and Assorted Desserts\n\nHot Chocolate Station and Cider
X-ALT-DESC;FMTTYPE=text/html:<h3>It&#39\;s the most wonderful time of the year!</h3>\n\n<hr />Come to Airlie for a delicious breakfast made by our Executive Chef and his team. When you&#39\;ve finished dining\, take the family to meet Santa Claus! The kids can tell him gifts they desire this Holiday Season\, and the families get to take their own photographs as a keepsake to treasure.\n<hr />This experience is broken up into timeslots and we ask that you please arrive at the time you have purchased a ticket for to ensure seating for all guests.\n<hr />We can&#39\;t wait to see you there!<br />\nMenu: MAIN BUFFET<br />\nBreads &amp\; Pastry with Butter and Preserves<br />\nSliced Fresh Fruit Display<br />\nScrambled Eggs<br />\nFrench Toast Sticks with Maple Syrup<br />\nCountry Breakfast Potatoes with Pepper and Onions<br />\nApplewood Smoked Bacon<br />\nLocal Smoke Pork Sausage Links<br />\nDessert Station<br />\nHoliday Cookie and Assorted Desserts<br />\nHot Chocolate Station and Cider
LOCATION:
UID:e.2677.15533
SEQUENCE:3
DTSTAMP:20260423T201435Z
URL:https://business.fauquierchamber.org/events/details/breakfast-with-santa-at-airlie-15533
END:VEVENT

END:VCALENDAR
