BEGIN:VCALENDAR
VERSION:2.0
PRODID:-//ChamberMaster//Event Calendar 2.0//EN
METHOD:PUBLISH
X-PUBLISHED-TTL:P3D
REFRESH-INTERVAL:P3D
CALSCALE:GREGORIAN
BEGIN:VEVENT
DTSTART:20260427T223000Z
DTEND:20260428T003000Z
X-MICROSOFT-CDO-ALLDAYEVENT:FALSE
SUMMARY:Center for Loss & Life Transition/ Spiritual Care Support Ministries Event
DESCRIPTION:Spiritual Care Support Ministries is pleased to invite you to two free special events featuring renowned grief educator and counselor\, Dr. Alan Wolfelt\, exploring compassionate approaches to grief\, healing\, and hope.\n\n\n\nThere will be an additional day event on April 28th from 8:30am to 11:30am- Helping Children and Teens Cope with Grief and Philosophy of Caregiving.
X-ALT-DESC;FMTTYPE=text/html:<hr /><br />\nSpiritual Care Support Ministries is pleased to invite you to two free special events featuring renowned grief educator and counselor\, Dr. Alan Wolfelt\, exploring compassionate approaches to grief\, healing\, and hope.<br />\n<br />\nThere will be an additional day event on April 28th from 8:30am to 11:30am- Helping Children and Teens Cope with Grief and Philosophy of Caregiving.&nbsp\;<br />\n&nbsp\;\n<hr />
LOCATION:Battlefield Baptist Church 4361 Lee Highway\, Warrenton\, Va 20187 Both events are at this location April 27th 6:30pm to 8:30pm-- Understanding Grief and Finding Hope\, Courage\, and Grace April 28th 8:30am to 11:30am --Helping Children and Teens Cope with Grief\, and Philosophy of Caregiving- This presentation is ideal for clergy\, educators\, healthcare professionals\, counselors and caregivers.
UID:e.2677.23144
SEQUENCE:3
DTSTAMP:20260423T083452Z
URL:https://business.fauquierchamber.org/events/details/center-for-loss-life-transition-spiritual-care-support-ministries-event-23144
END:VEVENT

END:VCALENDAR
