BEGIN:VCALENDAR
VERSION:2.0
PRODID:-//ChamberMaster//Event Calendar 2.0//EN
METHOD:PUBLISH
X-PUBLISHED-TTL:P3D
REFRESH-INTERVAL:P3D
CALSCALE:GREGORIAN
BEGIN:VEVENT
DTSTART:20230308T133000Z
DTEND:20230308T143000Z
X-MICROSOFT-CDO-ALLDAYEVENT:FALSE
SUMMARY:Chamber of Commerce Executive Committee Meeting
DESCRIPTION:The executive Committee is a subset of the Board of Directors and includes the following positions:\n\n	Chair\n	Immediate Past chair\n	Chair elect\n	Treasurer\n	Secretary\n	Finance Chair\n	Councils Chair\n\n\nMembership is encouraged and invited to explore opportunities to participate. Click the link below to indicate your interest. http://www.fauquierchamber.org/form/view/26981
X-ALT-DESC;FMTTYPE=text/html:The executive Committee is a subset of the Board of Directors and includes the following positions:\n<ul>\n	<li>Chair</li>\n	<li>Immediate Past chair</li>\n	<li>Chair elect</li>\n	<li>Treasurer</li>\n	<li>Secretary</li>\n	<li>Finance Chair</li>\n	<li>Councils Chair</li>\n</ul>\n\n<hr />Membership is encouraged and invited to explore opportunities to participate. Click the link below to indicate your interest.&nbsp\;<a href="http://www.fauquierchamber.org/form/view/26981" target="_blank">http://www.fauquierchamber.org/form/view/26981&nbsp\;</a>&nbsp\;&nbsp\;&nbsp\;
LOCATION:
UID:e.2677.15547
SEQUENCE:3
DTSTAMP:20260424T085450Z
URL:https://business.fauquierchamber.org/events/details/chamber-of-commerce-executive-committee-meeting-03-08-2023-15547
END:VEVENT

END:VCALENDAR
