BEGIN:VCALENDAR
VERSION:2.0
PRODID:-//ChamberMaster//Event Calendar 2.0//EN
METHOD:PUBLISH
X-PUBLISHED-TTL:P3D
REFRESH-INTERVAL:P3D
CALSCALE:GREGORIAN
BEGIN:VEVENT
DTSTART:20231128T130000Z
DTEND:20231128T140000Z
X-MICROSOFT-CDO-ALLDAYEVENT:FALSE
SUMMARY:Tuesday Leadshare
DESCRIPTION:This week's presentation will feature:\n\nStephanie Teague with BEMER\n"BEMER (Bio-Electro-Magnetic-Energy-Regulation) is an FDA class 2 cleared\, European medical device that increases blood flow in healthy muscles to ensure that ample oxygen is delivered to target tissue.\n\n\n\nBEMER can enhance: muscle performance\, energy & endurance\, circulation\, and rest & relaxation."\n\n \nFormed to augment business\, the Fauquier Leadshare Group is an active and structured system for furnishing and receiving business referrals.\n\nIt's well known that networking is one of the best ways to make the contacts in business to increase profitability. A very personal form of advertising\, it is one of the most cost effective ways to build sales. It takes an enthusiastic commitment of time and interest\, but Leadsharing is the cutting edge approach to networking. The Fauquier Leadshare Group is designed to assist the participants in expanding their business network.\n\n\n\nThe theory behind Leadshare is simple\, but it works. The group meets on a regular\, predetermined basis (once a week is preferable) to become acquainted with each other's businesses and learn what kind of client each is seeking. Leads provided during meetings include referrals of prospective clients\, names of major representatives\, or information on organizations which may generate additional leads or networking opportunities.\n\n\n\n There can be only one representative from each business area in a group. You get to know other member's businesses and all members of the group carry each other's business cards. When a fellow member meets someone who could use your product or service they can personally recommend your business because they know you and your integrity. It is similar to having a team of sales personnel working for you.
X-ALT-DESC;FMTTYPE=text/html:&nbsp\;\n<h1 style="text-align: center\;">This week&#39\;s presentation will feature:</h1>\n\n<h2 style="text-align: center\;"><span style="font-size:22px\;"><a href="https://www.fauquierchamber.org/list/member/stephanie-teague-bemer-4143" target="_blank"><span style="color: rgb(0\, 0\, 255)\;">Stephanie Teague with BEMER</span></a></span></h2>\n<em><span style="color: rgb(63\, 63\, 63)\; font-family: Oxygen\, sans-serif\; font-size: 16px\; letter-spacing: 0.5px\;">&quot\;BEMER (Bio-Electro-Magnetic-Energy-Regulation) is an FDA class 2 cleared\, European medical device that increases blood flow in healthy muscles to ensure that ample oxygen is delivered to target tissue.</span><br style="box-sizing: border-box\; color: rgb(63\, 63\, 63)\; font-family: Oxygen\, sans-serif\; font-size: 16px\; letter-spacing: 0.5px\;" />\n<br style="box-sizing: border-box\; color: rgb(63\, 63\, 63)\; font-family: Oxygen\, sans-serif\; font-size: 16px\; letter-spacing: 0.5px\;" />\n<span style="color: rgb(63\, 63\, 63)\; font-family: Oxygen\, sans-serif\; font-size: 16px\; letter-spacing: 0.5px\;">BEMER can enhance: muscle performance\, energy &amp\; endurance\, circulation\, and rest &amp\; relaxation.&quot\;</span></em>\n\n<hr />&nbsp\;\n<div style="box-sizing: border-box\; margin: 0px 0px 12px 6pt\; font-family: Oxygen\, sans-serif\; line-height: 1.4\; text-rendering: optimizelegibility\; color: rgb(16\, 42\, 98)\; font-size: 16px\; letter-spacing: 0.5px\;background: rgb(238\, 238\, 238)\; border: 1px solid rgb(204\, 204\, 204)\; padding: 5px 10px\;">Formed to augment business\, the Fauquier Leadshare Group is an active and structured system for furnishing and receiving business referrals.</div>\n\n<div style="box-sizing: border-box\; margin: 0px 0px 12px 6pt\; font-family: Oxygen\, sans-serif\; line-height: 1.4\; text-rendering: optimizelegibility\; color: rgb(16\, 42\, 98)\; font-size: 16px\; letter-spacing: 0.5px\;background: rgb(238\, 238\, 238)\; border: 1px solid rgb(204\, 204\, 204)\; padding: 5px 10px\;">It&#39\;s well known that networking is one of the best ways to make the contacts in business to increase profitability. A very personal form of advertising\, it is one of the most cost effective ways to build sales. It takes an enthusiastic commitment of time and interest\, but Leadsharing is the cutting edge approach to networking. The Fauquier Leadshare Group is designed to assist the participants in expanding their business network.<br />\n<br />\nThe theory behind Leadshare is simple\, but it works. The group meets on a regular\, predetermined basis (once a week is preferable) to become acquainted with each other&#39\;s businesses and learn what kind of client each is seeking. Leads provided during meetings include referrals of prospective clients\, names of major representatives\, or information on organizations which may generate additional leads or networking opportunities.<br />\n<br />\n&#8203\;There can be only one representative from each business area in a group. You get to know other member&#39\;s businesses and all members of the group carry each other&#39\;s business cards. When a fellow member meets someone who could use your product or service they can personally recommend your business because they know you and your integrity. It is similar to having a team of sales personnel working for you.</div>\n
LOCATION:
UID:e.2677.16693
SEQUENCE:3
DTSTAMP:20260424T043618Z
URL:https://business.fauquierchamber.org/events/details/tuesday-leadshare-11-28-2023-16693
END:VEVENT

END:VCALENDAR
